BEGIN:VCALENDAR
VERSION:2.0
BEGIN:VEVENT
URL:https://ped.yartel.ru/events/viewevent/1-raspisanie-translyatsij-konkursnykh-meropriyatij-uchitelgoda-rossii 
DTSTART:20160928T000000
DTEND:20160930T001500
SUMMARY:Расписание трансляций конкурсных мероприятий "Учительгода России"
DESCRIPTION:<p>В Самаре проходит Всероссийский конкурс "Учитель года России". Есть возможность посмотреть уроки участников конкурса.  Пройдите по ссылке https://teacher-of-russia.ru/index.php?page=timetable2016#2 и познакомьтесь с участниками конкурса.<br /></p><br />
LOCATION:Самара
END:VEVENT
END:VCALENDAR